BEGIN:VCALENDAR
VERSION:2.0
PRODID:-//ChamberMaster//Event Calendar 2.0//EN
METHOD:PUBLISH
X-PUBLISHED-TTL:P3D
REFRESH-INTERVAL:P3D
CALSCALE:GREGORIAN
BEGIN:VEVENT
DTSTART:20190812T220000Z
DTEND:20190813T000000Z
X-MICROSOFT-CDO-ALLDAYEVENT:FALSE
SUMMARY:30 Rock Trivia on the Patio
DESCRIPTION:Ain't no party like a Liz Lemon party!\n\nJoin us on our outdoor patio on Monday\, August 12th starting at 6pm for 30 Rock themed trivia - I want to go to there.\n\nDetails:\n\n\n- Trivia begins at 6:00pm but we encourage you to come early for dinner & drinks (bring on the night cheese!)\n\n\n\n- Listen up\, nerds - registration is first come\, first served and CLOSES after the first 35 teams have signed up (teams cannot exceed 6 people)\n\n\n\n- Trivia will be held outside on our patio. In the case of inclement weather (Blerg!)\, trivia will move to our sister location The Harp by North Station (remember\, never follow a hippie to a second location)\n\n \n\n \n\nPlease note: RSVP does NOT guarantee a team or table. We recommend coming early as we cannot accommodate everyone.
X-ALT-DESC;FMTTYPE=text/html:<h2>Ain&#39\;t no party like a Liz Lemon party!</h2>\n\n<p>Join us on our outdoor patio on Monday\, August 12th starting at 6pm for&nbsp\;<strong>30 Rock</strong>&nbsp\;themed trivia -<em>&nbsp\;I want to go to there.</em></p>\n\n<p>Details:</p>\n\n<div>\n<div>- Trivia begins at 6:00pm but we encourage you to come early for dinner &amp\; drinks (bring on the night cheese!)</div>\n</div>\n\n<div>\n<div>- Listen up\, nerds - registration is first come\, first served and CLOSES after the first 35 teams have signed up (teams cannot exceed 6 people)</div>\n</div>\n\n<div>\n<div>-&nbsp\;Trivia will be held outside on our patio. In the case of inclement weather (Blerg!)\, trivia will move to our sister location The Harp by North Station (remember\, never follow a hippie to a second location)</div>\n\n<div>&nbsp\;</div>\n\n<div>&nbsp\;</div>\n\n<div><em>Please note: RSVP does NOT guarantee a team or table. We recommend coming early as we cannot accommodate everyone.</em></div>\n</div>\n
LOCATION:Glass House 450 Kendall Street Cambridge\, MA 02142
UID:e.2584.4594
SEQUENCE:3
DTSTAMP:20260424T164254Z
URL:https://business.cambridgechamber.org/events/details/30-rock-trivia-on-the-patio-4594
END:VEVENT

END:VCALENDAR
