BEGIN:VCALENDAR
VERSION:2.0
PRODID:-//ChamberMaster//Event Calendar 2.0//EN
METHOD:PUBLISH
X-PUBLISHED-TTL:P3D
REFRESH-INTERVAL:P3D
CALSCALE:GREGORIAN
BEGIN:VEVENT
DTSTART:20210525T230000Z
DTEND:20210526T000000Z
X-MICROSOFT-CDO-ALLDAYEVENT:FALSE
SUMMARY:27th (Virtual) Circle of Friends Gala!
DESCRIPTION:This year's Circle of Friends Gala is one virtual event you won't want to miss! The Gala will feature:\n\n \n\n	Appearances from Governor Charlie Baker and Mayor Sumbul Siddiqui\n	A heartwarming story about one amazing family supporting their son with severe disabilities\n	The presentation of the Avon Children's Friend award to Cambridge Savings Bank President & CEO and Cambridge Chamber Director Wayne Patenaude\n\n \n\nThere are two amazing raffle prizes this year: a 7-night beachfront vacation in Mexico\, and a Surface 3 Laptop! And opportunities for corporate sponsorships are currently available. All proceeds will support the work of Cambridge Family & Children's Service\, which supports and stabilizes youth and families throughout Cambridge and Eastern Massachusetts.\n\n \n\nThis year's Circle of Friends Gala is free to attend!
X-ALT-DESC;FMTTYPE=text/html:<span style="font-family:arial\,sans-serif\;"><span style="font-size:15pt\;">This year&rsquo\;s Circle of Friends Gala is one virtual event you won&rsquo\;t want to miss! The Gala will feature:</span></span><br />\n&nbsp\;\n<ul>\n	<li><span style="font-family:arial\,sans-serif\;"><span style="font-size:15pt\;">Appearances from Governor Charlie Baker and Mayor Sumbul Siddiqui</span></span></li>\n	<li><span style="font-family:arial\,sans-serif\;"><span style="font-size:15pt\;">A heartwarming story about one amazing family supporting their son with severe disabilities</span></span></li>\n	<li><span style="font-family:arial\,sans-serif\;"><span style="font-size:15pt\;">The presentation of the Avon Children&rsquo\;s Friend award to Cambridge Savings Bank President &amp\; CEO and Cambridge Chamber Director Wayne Patenaude</span></span></li>\n</ul>\n&nbsp\;<br />\n<span style="font-family:arial\,sans-serif\;"><span style="font-size:15pt\;">There are two amazing raffle prizes this year: a 7-night beachfront vacation in Mexico\, and a Surface 3 Laptop! And opportunities for corporate sponsorships are currently available. All proceeds will support the work of Cambridge Family &amp\; Children&rsquo\;s Service\, which supports and stabilizes youth and families throughout Cambridge and Eastern Massachusetts.</span></span><br />\n&nbsp\;<br />\n<span style="font-family:arial\,sans-serif\;"><span style="font-size:15pt\;">This year&rsquo\;s Circle of Friends Gala is free to attend!&nbsp\;</span></span>
LOCATION:
UID:e.2584.6047
SEQUENCE:3
DTSTAMP:20260423T062735Z
URL:https://business.cambridgechamber.org/events/details/27th-virtual-circle-of-friends-gala-6047
END:VEVENT

END:VCALENDAR
