BEGIN:VCALENDAR
VERSION:2.0
PRODID:-//ChamberMaster//Event Calendar 2.0//EN
METHOD:PUBLISH
X-PUBLISHED-TTL:P3D
REFRESH-INTERVAL:P3D
CALSCALE:GREGORIAN
BEGIN:VEVENT
DTSTART:20190509T213000Z
DTEND:20190509T233000Z
X-MICROSOFT-CDO-ALLDAYEVENT:FALSE
SUMMARY:26th Annual Circle of Friends Gala
DESCRIPTION:Welcome to the Cambridge Family & Children's Service 26th Annual Circle of Friends Gala!\n\n\n\n\n\nThe Annual Circle of Friends Gala and Auction is CFCS's largest fundraising event of the year\, attended by more than 350 guests\, volunteers\, and donors annually. The success of this gala would not be possible without the generous support of our corporate and private sponsors.\n\n\n\nProceeds from the evening directly support our programs and provide children\, youth and families across Massachusetts with essential services and opportunities throughout the year.\n\n\n\nThe evening includes a cocktail reception\, silent and live auctions\, and dinner accompanied by a presentation of CFCS' important work in the community. We invite you to host a table of your friends\, family and colleagues\, and share with them the feel-good event of the year!\n\nThe Gala will be on Thursday\, May 9 at the Royal Sonesta Boston.\n\nFestivities commence at 5:30 PM.
X-ALT-DESC;FMTTYPE=text/html:<div background-color:="" class="gg-event-header-container" color:="" id="dnn_ctr2127181_ViewAESOPEventLanding_HeaderTextDiv" open="" style="box-sizing: border-box\; margin: 0px 0px 14px\; padding: 0px\; border: 0px\; font-variant-numeric: inherit\; font-variant-east-asian: inherit\; font-stretch: inherit\; font-size: 14px\; line-height: inherit\; font-family: " vertical-align:="">\n<p style="box-sizing: border-box\; margin: 0px 0px 10px\; padding: 0px\; border: 0px\; font-style: inherit\; font-variant: inherit\; font-stretch: inherit\; line-height: inherit\; vertical-align: baseline\; text-align: center\;"><strong style="box-sizing: border-box\; margin: 0px\; padding: 0px\; border: 0px\; font-style: inherit\; font-variant: inherit\; font-stretch: inherit\; font-size: inherit\; line-height: inherit\; font-family: inherit\; vertical-align: baseline\;"><span style="box-sizing: border-box\; margin: 0px\; padding: 0px\; border: 0px\; font-style: inherit\; font-variant: inherit\; font-weight: inherit\; font-stretch: inherit\; font-size: 11pt\; line-height: inherit\; font-family: inherit\; vertical-align: baseline\;">Welcome to the Cambridge Family &amp\; Children&#39\;s Service 26th Annual Circle of Friends Gala!</span></strong></p>\n</div>\n\n<div background-color:="" class="labelAlignCenter" color:="" open="" style="box-sizing: border-box\; margin: 0px\; padding: 0px\; border: 0px\; font-variant-numeric: inherit\; font-variant-east-asian: inherit\; font-stretch: inherit\; font-size: 14px\; line-height: inherit\; font-family: " text-align:="" vertical-align:="">\n<div class="gg-event-banner" id="dnn_ctr2127181_ViewAESOPEventLanding_EventHeader_EventNameDateLocationDiv" style="box-sizing: border-box\; margin: 0px 0px 20px\; padding: 0px\; border: 0px\; font: inherit\; vertical-align: baseline\;">\n<div class="gg-event-description-container" id="dnn_ctr2127181_ViewAESOPEventLanding_EventHeader_EventDescriptionDiv" style="box-sizing: border-box\; margin: 0px\; padding: 10px 0px 0px\; border: 0px\; font: inherit\; vertical-align: baseline\;">\n<p style="box-sizing: border-box\; margin: 0px 0px 10px\; padding: 0px\; border: 0px\; font-style: inherit\; font-variant: inherit\; font-stretch: inherit\; line-height: inherit\; vertical-align: baseline\;"><span id="dnn_ctr2127181_ViewAESOPEventLanding_EventHeader_EventDescriptionInfo" style="box-sizing: border-box\; margin: 0px\; padding: 0px\; border: 0px\; font: inherit\; vertical-align: baseline\;"><span style="box-sizing: border-box\; margin: 0px\; padding: 0px\; border: 0px\; font-style: inherit\; font-variant: inherit\; font-weight: inherit\; font-stretch: inherit\; font-size: 11pt\; line-height: inherit\; font-family: inherit\; vertical-align: baseline\;">The Annual Circle of Friends Gala and Auction is CFCS&rsquo\;s largest fundraising event of the year\, attended by more than 350 guests\, volunteers\, and donors annually. The success of this gala would not be possible without the generous support of our corporate and private sponsors.<br style="box-sizing: border-box\;" />\n<br style="box-sizing: border-box\;" />\nProceeds from the evening directly support our programs and provide children\, youth and families across Massachusetts with essential services and opportunities throughout the year.<br style="box-sizing: border-box\;" />\n<br style="box-sizing: border-box\;" />\nThe evening includes a cocktail reception\, silent and live auctions\, and dinner accompanied by a presentation of CFCS&#39\; important work in the community. We invite you to host a table of your friends\, family and colleagues\, and share with them the feel-good event of the year!</span></span></p>\n\n<p style="box-sizing: border-box\; margin: 0px 0px 10px\; padding: 0px\; border: 0px\; font-style: inherit\; font-variant: inherit\; font-stretch: inherit\; line-height: inherit\; vertical-align: baseline\;"><span id="dnn_ctr2127181_ViewAESOPEventLanding_EventHeader_EventDescriptionInfo" style="box-sizing: border-box\; margin: 0px\; padding: 0px\; border: 0px\; font: inherit\; vertical-align: baseline\;"><span style="box-sizing: border-box\; margin: 0px\; padding: 0px\; border: 0px\; font-style: inherit\; font-variant: inherit\; font-weight: inherit\; font-stretch: inherit\; font-size: 11pt\; line-height: inherit\; font-family: inherit\; vertical-align: baseline\;"><strong style="box-sizing: border-box\; margin: 0px\; padding: 0px\; border: 0px\; font-style: inherit\; font-variant: inherit\; font-stretch: inherit\; font-size: inherit\; line-height: inherit\; font-family: inherit\; vertical-align: baseline\;">The Gala will be on Thursday\, May 9 at the Royal Sonesta Boston.<br style="box-sizing: border-box\;" />\nFestivities commence at 5:30 PM.</strong></span></span></p>\n</div>\n</div>\n</div>\n
LOCATION:
UID:e.2584.4504
SEQUENCE:3
DTSTAMP:20260424T201302Z
URL:https://business.cambridgechamber.org/events/details/26th-annual-circle-of-friends-gala-4504
END:VEVENT

END:VCALENDAR
