BEGIN:VCALENDAR
VERSION:2.0
PRODID:-//ChamberMaster//Event Calendar 2.0//EN
METHOD:PUBLISH
X-PUBLISHED-TTL:P3D
REFRESH-INTERVAL:P3D
CALSCALE:GREGORIAN
BEGIN:VEVENT
DTSTART:20190625T220000Z
DTEND:20190626T010000Z
X-MICROSOFT-CDO-ALLDAYEVENT:FALSE
SUMMARY:2019 LGBTQ Professional Networking Night
DESCRIPTION:Pride is strong. Pride is powerful. Pride is something to celebrate. Join us for our 2nd Annual LGBTQ Professional Networking Night on Tuesday\, June 25th at the MIT Media Lab. Make connections with peers and industry professionals over appetizers\, refreshments\, and a beautiful view of the Charles. LGBTQ community and allies are welcome. For event details and registration\, go to cambridgesavings.com/pride.
X-ALT-DESC;FMTTYPE=text/html:<span style="font-family:century gothic\,sans-serif\;">Pride is strong. Pride is powerful. Pride is something to celebrate. Join us for our 2<sup>nd</sup> Annual LGBTQ Professional Networking Night on Tuesday\, June 25<sup>th</sup> at the MIT Media Lab. Make connections with peers and industry professionals over appetizers\, refreshments\, and a beautiful view of the Charles. LGBTQ community and allies are welcome. For event details and registration\, go to cambridgesavings.com/pride. </span>
LOCATION:MIT Media Lab\, 6th Floor 75 Amherst Street
UID:e.2584.4506
SEQUENCE:3
DTSTAMP:20260424T200534Z
URL:https://business.cambridgechamber.org/events/details/2019-lgbtq-professional-networking-night-4506
END:VEVENT

END:VCALENDAR
